BEGIN:VCALENDAR
VERSION:2.0
PRODID:-//Florian Fränz - ECPv6.15.20//NONSGML v1.0//EN
CALSCALE:GREGORIAN
METHOD:PUBLISH
X-ORIGINAL-URL:https://florianfraenz.de
X-WR-CALDESC:Veranstaltungen für Florian Fränz
REFRESH-INTERVAL;VALUE=DURATION:PT1H
X-Robots-Tag:noindex
X-PUBLISHED-TTL:PT1H
BEGIN:VTIMEZONE
TZID:Europe/Berlin
BEGIN:DAYLIGHT
TZOFFSETFROM:+0100
TZOFFSETTO:+0200
TZNAME:CEST
DTSTART:20240331T010000
END:DAYLIGHT
BEGIN:STANDARD
TZOFFSETFROM:+0200
TZOFFSETTO:+0100
TZNAME:CET
DTSTART:20241027T010000
END:STANDARD
BEGIN:DAYLIGHT
TZOFFSETFROM:+0100
TZOFFSETTO:+0200
TZNAME:CEST
DTSTART:20250330T010000
END:DAYLIGHT
BEGIN:STANDARD
TZOFFSETFROM:+0200
TZOFFSETTO:+0100
TZNAME:CET
DTSTART:20251026T010000
END:STANDARD
BEGIN:DAYLIGHT
TZOFFSETFROM:+0100
TZOFFSETTO:+0200
TZNAME:CEST
DTSTART:20260329T010000
END:DAYLIGHT
BEGIN:STANDARD
TZOFFSETFROM:+0200
TZOFFSETTO:+0100
TZNAME:CET
DTSTART:20261025T010000
END:STANDARD
END:VTIMEZONE
BEGIN:VEVENT
DTSTART;TZID=Europe/Berlin:20250323T183000
DTEND;TZID=Europe/Berlin:20250323T220000
DTSTAMP:20260422T135830
CREATED:20241022T095537Z
LAST-MODIFIED:20241030T075216Z
UID:1666-1742754600-1742767200@florianfraenz.de
SUMMARY:Dinner Mental | Koldenbüttel
DESCRIPTION:Am 23. März 2025 wird es magisch-kulinarisch im Reimers Gasthof in Koldenbüttel! \nMentalist Florian Fränz liest scheinbar mühelos in den Gedanken seiner Mitmenschen und veranschaulicht unterhaltsam\, wie Lügen entlarvt und Entscheidungen beeinflusst werden können. Als gewiefter Entertainer sorgt der norddeutsche Gedankenleser meisterhaft magisch und schonungslos charmant für viel Spaß und Freude. Wer weiß\, welche erstaunlichen Fähigkeiten er auch bei Ihnen zum Vorschein bringen wird? \nBegleitet wird die Show von einem korrespondierendem 3-Gang-Menü inkl. Aperitif.\nInklusive Aperitif | Getränke exklusiv | Hauptgang als Buffet \nWeitere Informationen: www.reimersgasthof.de\nDie Karten für das Event sind im Vorverkauf im Reimers Gasthof in Koldenbüttel erhältlich. \n 
URL:https://florianfraenz.de/termin/dinner-mental-reimers/
LOCATION:Reimers Gasthof\, Dorfstraße 22\, Koldenbüttel\, Schleswig-Holstein\, 25840\, Germany
ATTACH;FMTTYPE=image/jpeg:https://florianfraenz.de/wp-content/uploads/2024/10/Koldenbuettel.jpg
END:VEVENT
END:VCALENDAR