BEGIN:VCALENDAR
VERSION:2.0
PRODID:-//Florian Fränz - ECPv6.15.20//NONSGML v1.0//EN
CALSCALE:GREGORIAN
METHOD:PUBLISH
X-ORIGINAL-URL:https://florianfraenz.de
X-WR-CALDESC:Veranstaltungen für Florian Fränz
REFRESH-INTERVAL;VALUE=DURATION:PT1H
X-Robots-Tag:noindex
X-PUBLISHED-TTL:PT1H
BEGIN:VTIMEZONE
TZID:Europe/Berlin
BEGIN:DAYLIGHT
TZOFFSETFROM:+0100
TZOFFSETTO:+0200
TZNAME:CEST
DTSTART:20250330T010000
END:DAYLIGHT
BEGIN:STANDARD
TZOFFSETFROM:+0200
TZOFFSETTO:+0100
TZNAME:CET
DTSTART:20251026T010000
END:STANDARD
BEGIN:DAYLIGHT
TZOFFSETFROM:+0100
TZOFFSETTO:+0200
TZNAME:CEST
DTSTART:20260329T010000
END:DAYLIGHT
BEGIN:STANDARD
TZOFFSETFROM:+0200
TZOFFSETTO:+0100
TZNAME:CET
DTSTART:20261025T010000
END:STANDARD
BEGIN:DAYLIGHT
TZOFFSETFROM:+0100
TZOFFSETTO:+0200
TZNAME:CEST
DTSTART:20270328T010000
END:DAYLIGHT
BEGIN:STANDARD
TZOFFSETFROM:+0200
TZOFFSETTO:+0100
TZNAME:CET
DTSTART:20271031T010000
END:STANDARD
END:VTIMEZONE
BEGIN:VEVENT
DTSTART;TZID=Europe/Berlin:20260228T183000
DTEND;TZID=Europe/Berlin:20260228T213000
DTSTAMP:20260421T172502
CREATED:20260123T122736Z
LAST-MODIFIED:20260123T122736Z
UID:2119-1772303400-1772314200@florianfraenz.de
SUMMARY:Dinner Mental | Amrum
DESCRIPTION:Am 28.02.26 wird es magisch-kulinarisch auf Amrum:\nMentalist Florian Fränz liest scheinbar mühelos in den Gedanken seiner Mitmenschen und veranschaulicht unterhaltsam\, wie Lügen entlarvt und Entscheidungen beeinflusst werden können. Als gewiefter Entertainer sorgt der norddeutsche Gedankenleser meisterhaft magisch und schonungslos charmant für viel Spaß und Freude. Wer weiß\, welche erstaunlichen Fähigkeiten er auch bei Ihnen zum Vorschein bringen wird? \nDAS 9. SPENDEN-EVENT FÜR DEN GUTEN ZWECK\nMentalshow & Menü\n28.02.26 | 18:30 Uhr | Hotel Hüttmann\nKarten nur im Vorverkauf* bei Thore Blome:\nLetj Schmuckkasje | 0171 7892683\n55€ p.P. inkl. Hauptgang & Dessert nach Wahl | Getränke exklusiv
URL:https://florianfraenz.de/termin/dinner-mental-amrum/
ATTACH;FMTTYPE=image/jpeg:https://florianfraenz.de/wp-content/uploads/2026/01/Amrum.jpg
END:VEVENT
END:VCALENDAR