BEGIN:VCALENDAR
VERSION:2.0
PRODID:-//Florian Fränz - ECPv6.15.20//NONSGML v1.0//EN
CALSCALE:GREGORIAN
METHOD:PUBLISH
X-ORIGINAL-URL:https://florianfraenz.de
X-WR-CALDESC:Veranstaltungen für Florian Fränz
REFRESH-INTERVAL;VALUE=DURATION:PT1H
X-Robots-Tag:noindex
X-PUBLISHED-TTL:PT1H
BEGIN:VTIMEZONE
TZID:Europe/Berlin
BEGIN:DAYLIGHT
TZOFFSETFROM:+0100
TZOFFSETTO:+0200
TZNAME:CEST
DTSTART:20250330T010000
END:DAYLIGHT
BEGIN:STANDARD
TZOFFSETFROM:+0200
TZOFFSETTO:+0100
TZNAME:CET
DTSTART:20251026T010000
END:STANDARD
BEGIN:DAYLIGHT
TZOFFSETFROM:+0100
TZOFFSETTO:+0200
TZNAME:CEST
DTSTART:20260329T010000
END:DAYLIGHT
BEGIN:STANDARD
TZOFFSETFROM:+0200
TZOFFSETTO:+0100
TZNAME:CET
DTSTART:20261025T010000
END:STANDARD
BEGIN:DAYLIGHT
TZOFFSETFROM:+0100
TZOFFSETTO:+0200
TZNAME:CEST
DTSTART:20270328T010000
END:DAYLIGHT
BEGIN:STANDARD
TZOFFSETFROM:+0200
TZOFFSETTO:+0100
TZNAME:CET
DTSTART:20271031T010000
END:STANDARD
END:VTIMEZONE
BEGIN:VEVENT
DTSTART;TZID=Europe/Berlin:20260326T180000
DTEND;TZID=Europe/Berlin:20260326T223000
DTSTAMP:20260421T173711
CREATED:20250304T072316Z
LAST-MODIFIED:20250304T072316Z
UID:1885-1774548000-1774564200@florianfraenz.de
SUMMARY:Dinner Mental | Schleswig
DESCRIPTION:Am 26.03.2026 wird es magisch-kulinarisch im Restaurant & Hotel Strandleben: \nMentalist Florian Fränz liest scheinbar mühelos in den Gedanken seiner Mitmenschen und veranschaulicht unterhaltsam\, wie Lügen entlarvt und Entscheidungen beeinflusst werden können. Als gewiefter Entertainer sorgt der norddeutsche Gedankenleser meisterhaft magisch und schonungslos charmant für viel Spaß und Freude. Wer weiß\, welche erstaunlichen Fähigkeiten er auch bei Ihnen zum Vorschein bringen wird? \nBegleitet wird die Show von einem korrespondierendem 3-Gang-Menü inkl. Aperitif.\nInklusive Aperitif | Getränke exklusiv\nEinlass: 18:00 | Beginn: 18:30 \nWeitere Informationen: www.strandleben-schleswig.de\nDie Tickets für das Event sind direkt im Restaurant & Hotel Strandleben erhältlich.
URL:https://florianfraenz.de/termin/dinner-mental-schleswig-strandleben-26-03-26/
LOCATION:Hotel & Restaurant Strandleben\, Schleibogen 6\, Schleswig\, Schleswig-Holstein\, 24837
ATTACH;FMTTYPE=image/jpeg:https://florianfraenz.de/wp-content/uploads/2025/03/Schleswig-Maerz-26.jpg
END:VEVENT
END:VCALENDAR