BEGIN:VCALENDAR
VERSION:2.0
PRODID:-//Florian Fränz - ECPv6.15.20//NONSGML v1.0//EN
CALSCALE:GREGORIAN
METHOD:PUBLISH
X-ORIGINAL-URL:https://florianfraenz.de
X-WR-CALDESC:Veranstaltungen für Florian Fränz
REFRESH-INTERVAL;VALUE=DURATION:PT1H
X-Robots-Tag:noindex
X-PUBLISHED-TTL:PT1H
BEGIN:VTIMEZONE
TZID:Europe/Berlin
BEGIN:DAYLIGHT
TZOFFSETFROM:+0100
TZOFFSETTO:+0200
TZNAME:CEST
DTSTART:20230326T010000
END:DAYLIGHT
BEGIN:STANDARD
TZOFFSETFROM:+0200
TZOFFSETTO:+0100
TZNAME:CET
DTSTART:20231029T010000
END:STANDARD
BEGIN:DAYLIGHT
TZOFFSETFROM:+0100
TZOFFSETTO:+0200
TZNAME:CEST
DTSTART:20240331T010000
END:DAYLIGHT
BEGIN:STANDARD
TZOFFSETFROM:+0200
TZOFFSETTO:+0100
TZNAME:CET
DTSTART:20241027T010000
END:STANDARD
BEGIN:DAYLIGHT
TZOFFSETFROM:+0100
TZOFFSETTO:+0200
TZNAME:CEST
DTSTART:20250330T010000
END:DAYLIGHT
BEGIN:STANDARD
TZOFFSETFROM:+0200
TZOFFSETTO:+0100
TZNAME:CET
DTSTART:20251026T010000
END:STANDARD
BEGIN:DAYLIGHT
TZOFFSETFROM:+0100
TZOFFSETTO:+0200
TZNAME:CEST
DTSTART:20260329T010000
END:DAYLIGHT
BEGIN:STANDARD
TZOFFSETFROM:+0200
TZOFFSETTO:+0100
TZNAME:CET
DTSTART:20261025T010000
END:STANDARD
BEGIN:DAYLIGHT
TZOFFSETFROM:+0100
TZOFFSETTO:+0200
TZNAME:CEST
DTSTART:20270328T010000
END:DAYLIGHT
BEGIN:STANDARD
TZOFFSETFROM:+0200
TZOFFSETTO:+0100
TZNAME:CET
DTSTART:20271031T010000
END:STANDARD
END:VTIMEZONE
BEGIN:VEVENT
DTSTART;TZID=Europe/Berlin:20260418T190000
DTEND;TZID=Europe/Berlin:20260418T223000
DTSTAMP:20260421T135143
CREATED:20260123T124012Z
LAST-MODIFIED:20260123T124012Z
UID:2126-1776538800-1776551400@florianfraenz.de
SUMMARY:Dinner Mental | Heidelberg
DESCRIPTION:Am 18.04.26 wird es magisch-kulinarisch im Frauenbad Heidelberg: \nMentalist Florian Fränz liest scheinbar mühelos in den Gedanken seiner Mitmenschen und veranschaulicht unterhaltsam\, wie Lügen entlarvt und Entscheidungen beeinflusst werden können. Als gewiefter Entertainer sorgt der norddeutsche Gedankenleser meisterhaft magisch und schonungslos charmant für viel Spaß und Freude. Wer weiß\, welche erstaunlichen Fähigkeiten er auch bei Ihnen zum Vorschein bringen wird? \nBegleitet wird die Show von einem korrespondierendem 4-Gang-Menü inkl. Aperitif.\nInklusive Aperitif | Getränke exklusiv\nEinlass: 18:00 | Beginn: 19:00 \nWeitere Informationen & Tickets: www.frauenbad-heidelberg.de
URL:https://florianfraenz.de/termin/dinner-mental-heidelberg-2/
LOCATION:Frauenbad Heidelberg\, Bergheimer Str. 45\, Heidelberg\, 69115\, Germany
ATTACH;FMTTYPE=image/jpeg:https://florianfraenz.de/wp-content/uploads/2026/01/Heidelberg-1804.jpg
END:VEVENT
BEGIN:VEVENT
DTSTART;TZID=Europe/Berlin:20260417T190000
DTEND;TZID=Europe/Berlin:20260417T223000
DTSTAMP:20260421T135143
CREATED:20260123T123723Z
LAST-MODIFIED:20260123T123723Z
UID:2122-1776452400-1776465000@florianfraenz.de
SUMMARY:Dinner Mental | Heidelberg
DESCRIPTION:Am 17.04.26 wird es magisch-kulinarisch im Frauenbad Heidelberg: \nMentalist Florian Fränz liest scheinbar mühelos in den Gedanken seiner Mitmenschen und veranschaulicht unterhaltsam\, wie Lügen entlarvt und Entscheidungen beeinflusst werden können. Als gewiefter Entertainer sorgt der norddeutsche Gedankenleser meisterhaft magisch und schonungslos charmant für viel Spaß und Freude. Wer weiß\, welche erstaunlichen Fähigkeiten er auch bei Ihnen zum Vorschein bringen wird? \nBegleitet wird die Show von einem korrespondierendem 4-Gang-Menü inkl. Aperitif.\nInklusive Aperitif | Getränke exklusiv\nEinlass: 18:00 | Beginn: 19:00 \nWeitere Informationen & Tickets: www.frauenbad-heidelberg.de
URL:https://florianfraenz.de/termin/dinner-mental-heidelberg/
LOCATION:Frauenbad Heidelberg\, Bergheimer Str. 45\, Heidelberg\, 69115\, Germany
ATTACH;FMTTYPE=image/jpeg:https://florianfraenz.de/wp-content/uploads/2026/01/Heidelberg-1704.jpg
END:VEVENT
BEGIN:VEVENT
DTSTART;TZID=Europe/Berlin:20260326T180000
DTEND;TZID=Europe/Berlin:20260326T223000
DTSTAMP:20260421T135143
CREATED:20250304T072316Z
LAST-MODIFIED:20250304T072316Z
UID:1885-1774548000-1774564200@florianfraenz.de
SUMMARY:Dinner Mental | Schleswig
DESCRIPTION:Am 26.03.2026 wird es magisch-kulinarisch im Restaurant & Hotel Strandleben: \nMentalist Florian Fränz liest scheinbar mühelos in den Gedanken seiner Mitmenschen und veranschaulicht unterhaltsam\, wie Lügen entlarvt und Entscheidungen beeinflusst werden können. Als gewiefter Entertainer sorgt der norddeutsche Gedankenleser meisterhaft magisch und schonungslos charmant für viel Spaß und Freude. Wer weiß\, welche erstaunlichen Fähigkeiten er auch bei Ihnen zum Vorschein bringen wird? \nBegleitet wird die Show von einem korrespondierendem 3-Gang-Menü inkl. Aperitif.\nInklusive Aperitif | Getränke exklusiv\nEinlass: 18:00 | Beginn: 18:30 \nWeitere Informationen: www.strandleben-schleswig.de\nDie Tickets für das Event sind direkt im Restaurant & Hotel Strandleben erhältlich.
URL:https://florianfraenz.de/termin/dinner-mental-schleswig-strandleben-26-03-26/
LOCATION:Hotel & Restaurant Strandleben\, Schleibogen 6\, Schleswig\, Schleswig-Holstein\, 24837
ATTACH;FMTTYPE=image/jpeg:https://florianfraenz.de/wp-content/uploads/2025/03/Schleswig-Maerz-26.jpg
END:VEVENT
BEGIN:VEVENT
DTSTART;TZID=Europe/Berlin:20260306T183000
DTEND;TZID=Europe/Berlin:20260306T210000
DTSTAMP:20260421T135143
CREATED:20250909T083304Z
LAST-MODIFIED:20250909T083304Z
UID:2008-1772821800-1772830800@florianfraenz.de
SUMMARY:Dinner Mental | Pahlen
DESCRIPTION:Am 06.03.26 wird es magisch-kulinarisch im Restaurant Pahlazzo: \nMentalist Florian Fränz liest scheinbar mühelos in den Gedanken seiner Mitmenschen und veranschaulicht unterhaltsam\, wie Lügen entlarvt und Entscheidungen beeinflusst werden können. Als gewiefter Entertainer sorgt der norddeutsche Gedankenleser meisterhaft magisch und schonungslos charmant für viel Spaß und Freude. Wer weiß\, welche erstaunlichen Fähigkeiten er auch bei Ihnen zum Vorschein bringen wird? \nBegleitet wird die Show von einem korrespondierendem 3-Gang-Menü inkl. Aperitif.\nInklusive Aperitif | Getränke exklusiv\nEinlass: 18:30 | Beginn: 19:00 \nTickets direkt im Restaurant Pahlazzo erhältlich\nTel: 04803 6690\nWeb: www.pahlazzo.de
URL:https://florianfraenz.de/termin/dinner-mental-pahlen/
LOCATION:Restaurant Pahlazzo\, Hauptstraße 27\, Pahlen-Pahlhude\, 25794\, Germany
ATTACH;FMTTYPE=image/jpeg:https://florianfraenz.de/wp-content/uploads/2025/09/Pahlen.jpg
END:VEVENT
BEGIN:VEVENT
DTSTART;TZID=Europe/Berlin:20260228T183000
DTEND;TZID=Europe/Berlin:20260228T213000
DTSTAMP:20260421T135143
CREATED:20260123T122736Z
LAST-MODIFIED:20260123T122736Z
UID:2119-1772303400-1772314200@florianfraenz.de
SUMMARY:Dinner Mental | Amrum
DESCRIPTION:Am 28.02.26 wird es magisch-kulinarisch auf Amrum:\nMentalist Florian Fränz liest scheinbar mühelos in den Gedanken seiner Mitmenschen und veranschaulicht unterhaltsam\, wie Lügen entlarvt und Entscheidungen beeinflusst werden können. Als gewiefter Entertainer sorgt der norddeutsche Gedankenleser meisterhaft magisch und schonungslos charmant für viel Spaß und Freude. Wer weiß\, welche erstaunlichen Fähigkeiten er auch bei Ihnen zum Vorschein bringen wird? \nDAS 9. SPENDEN-EVENT FÜR DEN GUTEN ZWECK\nMentalshow & Menü\n28.02.26 | 18:30 Uhr | Hotel Hüttmann\nKarten nur im Vorverkauf* bei Thore Blome:\nLetj Schmuckkasje | 0171 7892683\n55€ p.P. inkl. Hauptgang & Dessert nach Wahl | Getränke exklusiv
URL:https://florianfraenz.de/termin/dinner-mental-amrum/
ATTACH;FMTTYPE=image/jpeg:https://florianfraenz.de/wp-content/uploads/2026/01/Amrum.jpg
END:VEVENT
BEGIN:VEVENT
DTSTART;TZID=Europe/Berlin:20251030T183000
DTEND;TZID=Europe/Berlin:20251030T203000
DTSTAMP:20260421T135143
CREATED:20250908T113948Z
LAST-MODIFIED:20250908T141255Z
UID:1997-1761849000-1761856200@florianfraenz.de
SUMMARY:Dinner Mental | Schausende
DESCRIPTION:Am 30.10.2025 wird es magisch-kulinarisch im Restaurant Leuchtturm: \nMentalist Florian Fränz liest scheinbar mühelos in den Gedanken seiner Mitmenschen und veranschaulicht unterhaltsam\, wie Lügen entlarvt und Entscheidungen beeinflusst werden können. Als gewiefter Entertainer sorgt der norddeutsche Gedankenleser meisterhaft magisch und schonungslos charmant für viel Spaß und Freude. Wer weiß\, welche erstaunlichen Fähigkeiten er auch bei Ihnen zum Vorschein bringen wird? \nBegleitet wird die Show von einem korrespondierendem 3-Gang-Menü.\n3-Gang-Menü | Getränke exklusiv\nEinlass: 18:00 | Beginn: 18:30 \nTickets online kaufen unter: https://ticket2377.tickethome.at/buchen/2/30.10.2025/1830 \nWeb / Infos: https://leuchtturm-restaurant.de/kulinarischer-kulturwinter/
URL:https://florianfraenz.de/termin/dinner-mental-schausende/
LOCATION:Restaurant Leuchtturm\, Am Leuchtturm\, Glücksburg Schausende\, 24960\, Germany
ATTACH;FMTTYPE=image/jpeg:https://florianfraenz.de/wp-content/uploads/2025/09/Schausende-2025.jpg
END:VEVENT
BEGIN:VEVENT
DTSTART;TZID=Europe/Berlin:20251023T180000
DTEND;TZID=Europe/Berlin:20251023T223000
DTSTAMP:20260421T135143
CREATED:20250304T071724Z
LAST-MODIFIED:20250308T055428Z
UID:1881-1761242400-1761258600@florianfraenz.de
SUMMARY:Dinner Mental | Schleswig
DESCRIPTION:Am 23.10.2025 wird es magisch-kulinarisch im Restaurant & Hotel Strandleben: \nMentalist Florian Fränz liest scheinbar mühelos in den Gedanken seiner Mitmenschen und veranschaulicht unterhaltsam\, wie Lügen entlarvt und Entscheidungen beeinflusst werden können. Als gewiefter Entertainer sorgt der norddeutsche Gedankenleser meisterhaft magisch und schonungslos charmant für viel Spaß und Freude. Wer weiß\, welche erstaunlichen Fähigkeiten er auch bei Ihnen zum Vorschein bringen wird? \nBegleitet wird die Show von einem korrespondierendem 3-Gang-Menü inkl. Aperitif.\nInklusive Aperitif | Getränke exklusiv\nEinlass: 18:00 | Beginn: 18:30 \nWeitere Informationen: www.strandleben-schleswig.de\nDie Tickets für das Event sind direkt im Restaurant & Hotel Strandleben erhältlich.
URL:https://florianfraenz.de/termin/dinner-mental-schleswig-strandleben-23-10-25/
LOCATION:Hotel & Restaurant Strandleben\, Schleibogen 6\, Schleswig\, Schleswig-Holstein\, 24837
ATTACH;FMTTYPE=image/jpeg:https://florianfraenz.de/wp-content/uploads/2025/03/Schleswig-Okt-25.jpg
END:VEVENT
BEGIN:VEVENT
DTSTART;TZID=Europe/Berlin:20250405T190000
DTEND;TZID=Europe/Berlin:20250405T223000
DTSTAMP:20260421T135143
CREATED:20241023T073454Z
LAST-MODIFIED:20250311T071220Z
UID:1679-1743879600-1743892200@florianfraenz.de
SUMMARY:Dinner Mental | Kiel
DESCRIPTION:Am 05. April 2025 wird es magisch-kulinarisch im Maritim Hotel Kiel! \nMentalist Florian Fränz liest scheinbar mühelos in den Gedanken seiner Mitmenschen und veranschaulicht unterhaltsam\, wie Lügen entlarvt und Entscheidungen beeinflusst werden können. Als gewiefter Entertainer sorgt der norddeutsche Gedankenleser meisterhaft magisch und schonungslos charmant für viel Spaß und Freude. Wer weiß\, welche erstaunlichen Fähigkeiten er auch bei Ihnen zum Vorschein bringen wird? \nBegleitet wird die Show von einem korrespondierendem 3-Gang-Menü inkl. Aperitif.\nInklusive Aperitif | Getränke exklusiv | vegetarisches Menü möglich \nJetzt Karten kaufen: maritim-kiel.dinnermental.de\nDie Karten für das Event sind jetzt im Vorverkauf erhältlich. \nAlternativ können Tickets auch telefonisch bestellt werden: 0160 91961090 \n 
URL:https://florianfraenz.de/termin/dinner-mental-maritim/
LOCATION:Maritim Hotel Bellevue Kiel\, Bismarckallee 2\, Kiel\, 24105
ATTACH;FMTTYPE=image/jpeg:https://florianfraenz.de/wp-content/uploads/2024/10/Kiel.jpg
END:VEVENT
BEGIN:VEVENT
DTSTART;TZID=Europe/Berlin:20250323T183000
DTEND;TZID=Europe/Berlin:20250323T220000
DTSTAMP:20260421T135143
CREATED:20241022T095537Z
LAST-MODIFIED:20241030T075216Z
UID:1666-1742754600-1742767200@florianfraenz.de
SUMMARY:Dinner Mental | Koldenbüttel
DESCRIPTION:Am 23. März 2025 wird es magisch-kulinarisch im Reimers Gasthof in Koldenbüttel! \nMentalist Florian Fränz liest scheinbar mühelos in den Gedanken seiner Mitmenschen und veranschaulicht unterhaltsam\, wie Lügen entlarvt und Entscheidungen beeinflusst werden können. Als gewiefter Entertainer sorgt der norddeutsche Gedankenleser meisterhaft magisch und schonungslos charmant für viel Spaß und Freude. Wer weiß\, welche erstaunlichen Fähigkeiten er auch bei Ihnen zum Vorschein bringen wird? \nBegleitet wird die Show von einem korrespondierendem 3-Gang-Menü inkl. Aperitif.\nInklusive Aperitif | Getränke exklusiv | Hauptgang als Buffet \nWeitere Informationen: www.reimersgasthof.de\nDie Karten für das Event sind im Vorverkauf im Reimers Gasthof in Koldenbüttel erhältlich. \n 
URL:https://florianfraenz.de/termin/dinner-mental-reimers/
LOCATION:Reimers Gasthof\, Dorfstraße 22\, Koldenbüttel\, Schleswig-Holstein\, 25840\, Germany
ATTACH;FMTTYPE=image/jpeg:https://florianfraenz.de/wp-content/uploads/2024/10/Koldenbuettel.jpg
END:VEVENT
BEGIN:VEVENT
DTSTART;TZID=Europe/Berlin:20250315T183000
DTEND;TZID=Europe/Berlin:20250315T220000
DTSTAMP:20260421T135143
CREATED:20240505T155619Z
LAST-MODIFIED:20241022T065831Z
UID:1302-1742063400-1742076000@florianfraenz.de
SUMMARY:Dinner Mental | Struckum
DESCRIPTION:Am 15. März 2025 wird es magisch-kulinarisch im Landgasthof Struckum: \nMentalist Florian Fränz liest scheinbar mühelos in den Gedanken seiner Mitmenschen und veranschaulicht unterhaltsam\, wie Lügen entlarvt und Entscheidungen beeinflusst werden können. Als gewiefter Entertainer sorgt der norddeutsche Gedankenleser meisterhaft magisch und schonungslos charmant für viel Spaß und Freude. Wer weiß\, welche erstaunlichen Fähigkeiten er auch bei Ihnen zum Vorschein bringen wird? Freuen Sie sich auf einen interaktiven Abend voller Witz und Wunder. \nInklusive Aperitif | Getränke exklusiv | vegetarisches Menü möglich \nWeitere Informationen: www.landgasthof-struckum.de \n 
URL:https://florianfraenz.de/termin/dinner-mental-struckum/
LOCATION:Landgasthof Struckum\, Hauptstraße 40\, Struckum\, Schleswig-Holstein\, 25821
ATTACH;FMTTYPE=image/jpeg:https://florianfraenz.de/wp-content/uploads/2024/10/Struckum.jpg
END:VEVENT
BEGIN:VEVENT
DTSTART;TZID=Europe/Berlin:20250314T183000
DTEND;TZID=Europe/Berlin:20250314T220000
DTSTAMP:20260421T135143
CREATED:20241031T074304Z
LAST-MODIFIED:20241031T074304Z
UID:1712-1741977000-1741989600@florianfraenz.de
SUMMARY:Dinner Mental | Glücksburg
DESCRIPTION:Am 14. März 2025 wird es magisch-kulinarisch im Strandhotel Glücksburg! \nMentalist Florian Fränz liest scheinbar mühelos in den Gedanken seiner Mitmenschen und veranschaulicht unterhaltsam\, wie Lügen entlarvt und Entscheidungen beeinflusst werden können. Als gewiefter Entertainer sorgt der norddeutsche Gedankenleser meisterhaft magisch und schonungslos charmant für viel Spaß und Freude. Wer weiß\, welche erstaunlichen Fähigkeiten er auch bei Ihnen zum Vorschein bringen wird? \nBegleitet wird die Show von einem korrespondierendem 3-Gang-Menü.\ninkl. Begrüßungscocktail\, Weinbegleitung mit Nachservice\, Bier und Softgetränke \nWeitere Informationen folgen unter: www.strandhotelgluecksburg.de \n 
URL:https://florianfraenz.de/termin/dinner-mental-gluecksburg-2025/
LOCATION:Strandhotel Glücksburg\, Kirstenstr. 6\, Glücksburg\, Schleswig-Holstein\, 24960
ATTACH;FMTTYPE=image/jpeg:https://florianfraenz.de/wp-content/uploads/2024/10/Gluecksburg.jpg
END:VEVENT
BEGIN:VEVENT
DTSTART;TZID=Europe/Berlin:20250308T190000
DTEND;TZID=Europe/Berlin:20250308T223000
DTSTAMP:20260421T135143
CREATED:20241022T070306Z
LAST-MODIFIED:20241030T075426Z
UID:1652-1741460400-1741473000@florianfraenz.de
SUMMARY:Dinner Mental | Schleswig
DESCRIPTION:Am 08. März 2025 wird es magisch-kulinarisch im Restaurant & Hotel Strandleben: \nMentalist Florian Fränz liest scheinbar mühelos in den Gedanken seiner Mitmenschen und veranschaulicht unterhaltsam\, wie Lügen entlarvt und Entscheidungen beeinflusst werden können. Als gewiefter Entertainer sorgt der norddeutsche Gedankenleser meisterhaft magisch und schonungslos charmant für viel Spaß und Freude. Wer weiß\, welche erstaunlichen Fähigkeiten er auch bei Ihnen zum Vorschein bringen wird? \nBegleitet wird die Show von einem korrespondierendem 3-Gang-Menü inkl. Aperitif.\nInklusive Aperitif | Getränke exklusiv | vegetarisches Menü möglich \nWeitere Informationen: www.strandleben-schleswig.de\nDie Tickets für das Event sind direkt im Restaurant & Hotel Strandleben erhältlich. \n 
URL:https://florianfraenz.de/termin/dinner-mental-strandleben/
LOCATION:Hotel & Restaurant Strandleben\, Schleibogen 6\, Schleswig\, Schleswig-Holstein\, 24837
ATTACH;FMTTYPE=image/jpeg:https://florianfraenz.de/wp-content/uploads/2024/10/Schleswig.jpg
END:VEVENT
BEGIN:VEVENT
DTSTART;TZID=Europe/Berlin:20250301T183000
DTEND;TZID=Europe/Berlin:20250301T220000
DTSTAMP:20260421T135143
CREATED:20240505T154852Z
LAST-MODIFIED:20250226T212648Z
UID:1298-1740853800-1740866400@florianfraenz.de
SUMMARY:Dinner Mental | Hennstedt
DESCRIPTION:Am 01. März 2025 wird es magisch-kulinarisch auf Gut Apeldör in Hennstedt! \nMentalist Florian Fränz liest scheinbar mühelos in den Gedanken seiner Mitmenschen und veranschaulicht unterhaltsam\, wie Lügen entlarvt und Entscheidungen beeinflusst werden können. Als gewiefter Entertainer sorgt der norddeutsche Gedankenleser meisterhaft magisch und schonungslos charmant für viel Spaß und Freude. Wer weiß\, welche erstaunlichen Fähigkeiten er auch bei Ihnen zum Vorschein bringen wird? \nBegleitet wird die Show von einem korrespondierendem 3-Gang-Menü inkl. Aperitif.\nInklusive Aperitif & Wasser | sonstige Getränke exklusiv \nDie Karten für das Event sind im Vorverkauf auf Gut Apeldör erhältlich. Keine Abendkasse! \nJetzt anrufen und Tickets reservieren: 04836 99600
URL:https://florianfraenz.de/termin/dinner-mental-hennstedt/
LOCATION:Gut Apeldör\, Apeldör 2\, Hennstedt\, Schleswig-Holstein\, 25779
ATTACH;FMTTYPE=image/jpeg:https://florianfraenz.de/wp-content/uploads/2024/10/Hennstedt.jpg
END:VEVENT
BEGIN:VEVENT
DTSTART;TZID=Europe/Berlin:20250222T183000
DTEND;TZID=Europe/Berlin:20250222T220000
DTSTAMP:20260421T135143
CREATED:20241023T071941Z
LAST-MODIFIED:20250203T194718Z
UID:1671-1740249000-1740261600@florianfraenz.de
SUMMARY:Dinner Mental | Mildstedt
DESCRIPTION:Am 22. Februar 2025 wird es magisch-kulinarisch im Kirchspielskrug Mildstedt! \nMentalist Florian Fränz liest scheinbar mühelos in den Gedanken seiner Mitmenschen und veranschaulicht unterhaltsam\, wie Lügen entlarvt und Entscheidungen beeinflusst werden können. Als gewiefter Entertainer sorgt der norddeutsche Gedankenleser meisterhaft magisch und schonungslos charmant für viel Spaß und Freude. Wer weiß\, welche erstaunlichen Fähigkeiten er auch bei Ihnen zum Vorschein bringen wird? \nBegleitet wird die Show von einem korrespondierendem 3-Gang-Menü inkl. Aperitif.\nInklusive Aperitif | Getränke exklusiv | vegetarisches Menü möglich \nWeitere Informationen: kirchspielskrug-mildstedt.de\nDie Karten für das Event sind im Vorverkauf im Kirchspielskrug Mildstedt erhältlich. \n 
URL:https://florianfraenz.de/termin/dinner-mental-kirchspielskrug-mildstedt/
LOCATION:Kirchspielskrug Mildstedt\, Hauptstraße 13\, Mildstedt\, 25866
ATTACH;FMTTYPE=image/jpeg:https://florianfraenz.de/wp-content/uploads/2024/10/Mildstedt.jpg
END:VEVENT
BEGIN:VEVENT
DTSTART;TZID=Europe/Berlin:20241211T190000
DTEND;TZID=Europe/Berlin:20241211T223000
DTSTAMP:20260421T135143
CREATED:20241023T083834Z
LAST-MODIFIED:20241030T074938Z
UID:1691-1733943600-1733956200@florianfraenz.de
SUMMARY:Dinner Mental | Tangstedt
DESCRIPTION:Am 11. Dezember 2024 wird es magisch-kulinarisch in der Alten Rader Schule Tangstedt! \nMentalist Florian Fränz liest scheinbar mühelos in den Gedanken seiner Mitmenschen und veranschaulicht unterhaltsam\, wie Lügen entlarvt und Entscheidungen beeinflusst werden können. Als gewiefter Entertainer sorgt der norddeutsche Gedankenleser meisterhaft magisch und schonungslos charmant für viel Spaß und Freude. Wer weiß\, welche erstaunlichen Fähigkeiten er auch bei Ihnen zum Vorschein bringen wird? \nBegleitet wird die Show von einem korrespondierendem 3-Gang-Menü.\nGetränke exklusiv | vegetarisches Menü möglich \nWeitere Informationen: www.raderschule.de\nDie Karten für das Event sind jetzt im Vorverkauf in der Alten Rader Schule erhältlich. \n 
URL:https://florianfraenz.de/termin/dinner-mental-tangstedt/
LOCATION:Alte Rader Schule\, Rader Weg 209\, Tangstedt\, 22889
ATTACH;FMTTYPE=image/jpeg:https://florianfraenz.de/wp-content/uploads/2024/10/Tangstedt.jpg
END:VEVENT
BEGIN:VEVENT
DTSTART;TZID=Europe/Berlin:20240802T200000
DTEND;TZID=Europe/Berlin:20240802T220000
DTSTAMP:20260421T135143
CREATED:20240402T174602Z
LAST-MODIFIED:20240506T112817Z
UID:1000-1722628800-1722636000@florianfraenz.de
SUMMARY:Magische Nacht | Steinberg
DESCRIPTION:Ein Abend voller Witz & Wunder mit dem Gedankenleser Florian Fränz \nDie Veranstaltung findet unabhängig vom Wetter in der Kulturscheune statt. Das Team von Gut Oestergaard und der Eventkoch Manfred Weinmann sorgen für das leibliche Wohl!
URL:https://florianfraenz.de/termin/magische-nacht/
LOCATION:Gut Oestergaard\, Oestergaard 2\, Steinberg\, Schleswig-Holstein\, 24972
ATTACH;FMTTYPE=image/jpeg:https://florianfraenz.de/wp-content/uploads/2024/04/csm_gut-land-ostsee-gut-oestergaard_8f05e0a334.jpg
END:VEVENT
BEGIN:VEVENT
DTSTART;TZID=Europe/Berlin:20240315T183000
DTEND;TZID=Europe/Berlin:20240315T220000
DTSTAMP:20260421T135143
CREATED:20240505T160934Z
LAST-MODIFIED:20240505T160934Z
UID:1309-1710527400-1710540000@florianfraenz.de
SUMMARY:Dinner Mental | Glücksburg
DESCRIPTION:Am 15. März 2024 wird es magisch-kulinarisch im Strandhotel Glücksburg: \nMentalist Florian Fränz liest scheinbar mühelos in den Gedanken seiner Mitmenschen und veranschaulicht unterhaltsam\, wie Lügen entlarvt und Entscheidungen beeinflusst werden können. Als gewiefter Entertainer sorgt der norddeutsche Gedankenleser meisterhaft magisch und schonungslos charmant für viel Spaß und Freude. Wer weiß\, welche erstaunlichen Fähigkeiten er auch bei Ihnen zum Vorschein bringen wird? Freuen Sie sich auf einen interaktiven Abend voller Witz und Wunder. \nBegleitet wird die Show von einem korrespondierendem 3-Gänge-Menü aus der Feder von Küchenchef André Schneider. \n89 € inkl. Begrüßungscocktail\, Weinbegleitung mit Nachservice\, Bier und Softgetränke
URL:https://florianfraenz.de/termin/dinner-mental-gluecksburg/
LOCATION:Strandhotel Glücksburg\, Kirstenstr. 6\, Glücksburg\, Schleswig-Holstein\, 24960
ATTACH;FMTTYPE=image/jpeg:https://florianfraenz.de/wp-content/uploads/2024/05/Strandhotel-Gluecksburg.jpg
END:VEVENT
BEGIN:VEVENT
DTSTART;TZID=Europe/Berlin:20240303T090000
DTEND;TZID=Europe/Berlin:20240303T180000
DTSTAMP:20260421T135143
CREATED:20240221T093729Z
LAST-MODIFIED:20240505T160221Z
UID:47-1709456400-1709488800@florianfraenz.de
SUMMARY:Kohl & Wunder
DESCRIPTION:Genieße ein köstliches Kohlbuffet gefolgt von einer 60-minütigen Mentalshow mit dem talentierten Gedankenleser Florian Fränz. Ein Abend voller Magie und kulinarischer Genüsse erwartet dich. \nKartenvorverkauf: Tickets sind im Vorverkauf im Jagdhaus Bunsoh erhältlich. Für weitere Informationen und Ticketkauf besuche bitte www.jagdhaus-bunsoh.de.
URL:https://florianfraenz.de/termin/mental-dinner/
LOCATION:Jagdhaus Bunsoh\, Dorfstr. 10\, Bunsoh\, 25767\, Deutschland
ATTACH;FMTTYPE=image/avif:https://florianfraenz.de/wp-content/uploads/2024/02/platzhalter-leistungen.avif
ORGANIZER;CN="Jagdhaus Bunsoh":MAILTO:info@jagdhaus-bunsoh.de
END:VEVENT
END:VCALENDAR