BEGIN:VCALENDAR
VERSION:2.0
PRODID:-//Florian Fränz - ECPv6.15.20//NONSGML v1.0//EN
CALSCALE:GREGORIAN
METHOD:PUBLISH
X-WR-CALNAME:Florian Fränz
X-ORIGINAL-URL:https://florianfraenz.de
X-WR-CALDESC:Veranstaltungen für Florian Fränz
REFRESH-INTERVAL;VALUE=DURATION:PT1H
X-Robots-Tag:noindex
X-PUBLISHED-TTL:PT1H
BEGIN:VTIMEZONE
TZID:Europe/Berlin
BEGIN:DAYLIGHT
TZOFFSETFROM:+0100
TZOFFSETTO:+0200
TZNAME:CEST
DTSTART:20230326T010000
END:DAYLIGHT
BEGIN:STANDARD
TZOFFSETFROM:+0200
TZOFFSETTO:+0100
TZNAME:CET
DTSTART:20231029T010000
END:STANDARD
BEGIN:DAYLIGHT
TZOFFSETFROM:+0100
TZOFFSETTO:+0200
TZNAME:CEST
DTSTART:20240331T010000
END:DAYLIGHT
BEGIN:STANDARD
TZOFFSETFROM:+0200
TZOFFSETTO:+0100
TZNAME:CET
DTSTART:20241027T010000
END:STANDARD
BEGIN:DAYLIGHT
TZOFFSETFROM:+0100
TZOFFSETTO:+0200
TZNAME:CEST
DTSTART:20250330T010000
END:DAYLIGHT
BEGIN:STANDARD
TZOFFSETFROM:+0200
TZOFFSETTO:+0100
TZNAME:CET
DTSTART:20251026T010000
END:STANDARD
END:VTIMEZONE
BEGIN:VEVENT
DTSTART;TZID=Europe/Berlin:20240303T090000
DTEND;TZID=Europe/Berlin:20240303T180000
DTSTAMP:20260423T072504
CREATED:20240221T093729Z
LAST-MODIFIED:20240505T160221Z
UID:47-1709456400-1709488800@florianfraenz.de
SUMMARY:Kohl & Wunder
DESCRIPTION:Genieße ein köstliches Kohlbuffet gefolgt von einer 60-minütigen Mentalshow mit dem talentierten Gedankenleser Florian Fränz. Ein Abend voller Magie und kulinarischer Genüsse erwartet dich. \nKartenvorverkauf: Tickets sind im Vorverkauf im Jagdhaus Bunsoh erhältlich. Für weitere Informationen und Ticketkauf besuche bitte www.jagdhaus-bunsoh.de.
URL:https://florianfraenz.de/termin/mental-dinner/
LOCATION:Jagdhaus Bunsoh\, Dorfstr. 10\, Bunsoh\, 25767\, Deutschland
ATTACH;FMTTYPE=image/avif:https://florianfraenz.de/wp-content/uploads/2024/02/platzhalter-leistungen.avif
ORGANIZER;CN="Jagdhaus Bunsoh":MAILTO:info@jagdhaus-bunsoh.de
END:VEVENT
BEGIN:VEVENT
DTSTART;TZID=Europe/Berlin:20240315T183000
DTEND;TZID=Europe/Berlin:20240315T220000
DTSTAMP:20260423T072504
CREATED:20240505T160934Z
LAST-MODIFIED:20240505T160934Z
UID:1309-1710527400-1710540000@florianfraenz.de
SUMMARY:Dinner Mental | Glücksburg
DESCRIPTION:Am 15. März 2024 wird es magisch-kulinarisch im Strandhotel Glücksburg: \nMentalist Florian Fränz liest scheinbar mühelos in den Gedanken seiner Mitmenschen und veranschaulicht unterhaltsam\, wie Lügen entlarvt und Entscheidungen beeinflusst werden können. Als gewiefter Entertainer sorgt der norddeutsche Gedankenleser meisterhaft magisch und schonungslos charmant für viel Spaß und Freude. Wer weiß\, welche erstaunlichen Fähigkeiten er auch bei Ihnen zum Vorschein bringen wird? Freuen Sie sich auf einen interaktiven Abend voller Witz und Wunder. \nBegleitet wird die Show von einem korrespondierendem 3-Gänge-Menü aus der Feder von Küchenchef André Schneider. \n89 € inkl. Begrüßungscocktail\, Weinbegleitung mit Nachservice\, Bier und Softgetränke
URL:https://florianfraenz.de/termin/dinner-mental-gluecksburg/
LOCATION:Strandhotel Glücksburg\, Kirstenstr. 6\, Glücksburg\, Schleswig-Holstein\, 24960
ATTACH;FMTTYPE=image/jpeg:https://florianfraenz.de/wp-content/uploads/2024/05/Strandhotel-Gluecksburg.jpg
END:VEVENT
END:VCALENDAR