BEGIN:VCALENDAR
VERSION:2.0
PRODID:-//Florian Fränz - ECPv6.15.20//NONSGML v1.0//EN
CALSCALE:GREGORIAN
METHOD:PUBLISH
X-WR-CALNAME:Florian Fränz
X-ORIGINAL-URL:https://florianfraenz.de
X-WR-CALDESC:Veranstaltungen für Florian Fränz
REFRESH-INTERVAL;VALUE=DURATION:PT1H
X-Robots-Tag:noindex
X-PUBLISHED-TTL:PT1H
BEGIN:VTIMEZONE
TZID:Europe/Berlin
BEGIN:DAYLIGHT
TZOFFSETFROM:+0100
TZOFFSETTO:+0200
TZNAME:CEST
DTSTART:20230326T010000
END:DAYLIGHT
BEGIN:STANDARD
TZOFFSETFROM:+0200
TZOFFSETTO:+0100
TZNAME:CET
DTSTART:20231029T010000
END:STANDARD
BEGIN:DAYLIGHT
TZOFFSETFROM:+0100
TZOFFSETTO:+0200
TZNAME:CEST
DTSTART:20240331T010000
END:DAYLIGHT
BEGIN:STANDARD
TZOFFSETFROM:+0200
TZOFFSETTO:+0100
TZNAME:CET
DTSTART:20241027T010000
END:STANDARD
BEGIN:DAYLIGHT
TZOFFSETFROM:+0100
TZOFFSETTO:+0200
TZNAME:CEST
DTSTART:20250330T010000
END:DAYLIGHT
BEGIN:STANDARD
TZOFFSETFROM:+0200
TZOFFSETTO:+0100
TZNAME:CET
DTSTART:20251026T010000
END:STANDARD
END:VTIMEZONE
BEGIN:VEVENT
DTSTART;TZID=Europe/Berlin:20241211T190000
DTEND;TZID=Europe/Berlin:20241211T223000
DTSTAMP:20260422T165637
CREATED:20241023T083834Z
LAST-MODIFIED:20241030T074938Z
UID:1691-1733943600-1733956200@florianfraenz.de
SUMMARY:Dinner Mental | Tangstedt
DESCRIPTION:Am 11. Dezember 2024 wird es magisch-kulinarisch in der Alten Rader Schule Tangstedt! \nMentalist Florian Fränz liest scheinbar mühelos in den Gedanken seiner Mitmenschen und veranschaulicht unterhaltsam\, wie Lügen entlarvt und Entscheidungen beeinflusst werden können. Als gewiefter Entertainer sorgt der norddeutsche Gedankenleser meisterhaft magisch und schonungslos charmant für viel Spaß und Freude. Wer weiß\, welche erstaunlichen Fähigkeiten er auch bei Ihnen zum Vorschein bringen wird? \nBegleitet wird die Show von einem korrespondierendem 3-Gang-Menü.\nGetränke exklusiv | vegetarisches Menü möglich \nWeitere Informationen: www.raderschule.de\nDie Karten für das Event sind jetzt im Vorverkauf in der Alten Rader Schule erhältlich. \n 
URL:https://florianfraenz.de/termin/dinner-mental-tangstedt/
LOCATION:Alte Rader Schule\, Rader Weg 209\, Tangstedt\, 22889
ATTACH;FMTTYPE=image/jpeg:https://florianfraenz.de/wp-content/uploads/2024/10/Tangstedt.jpg
END:VEVENT
END:VCALENDAR